BEGIN:VCALENDAR
VERSION:2.0
PRODID:-//Chris Kidd Sings - ECPv6.15.20//NONSGML v1.0//EN
CALSCALE:GREGORIAN
METHOD:PUBLISH
X-ORIGINAL-URL:https://chriskiddsings.com
X-WR-CALDESC:Events for Chris Kidd Sings
REFRESH-INTERVAL;VALUE=DURATION:PT1H
X-Robots-Tag:noindex
X-PUBLISHED-TTL:PT1H
BEGIN:VTIMEZONE
TZID:Europe/Helsinki
BEGIN:DAYLIGHT
TZOFFSETFROM:+0200
TZOFFSETTO:+0300
TZNAME:EEST
DTSTART:20240331T010000
END:DAYLIGHT
BEGIN:STANDARD
TZOFFSETFROM:+0300
TZOFFSETTO:+0200
TZNAME:EET
DTSTART:20241027T010000
END:STANDARD
BEGIN:DAYLIGHT
TZOFFSETFROM:+0200
TZOFFSETTO:+0300
TZNAME:EEST
DTSTART:20250330T010000
END:DAYLIGHT
BEGIN:STANDARD
TZOFFSETFROM:+0300
TZOFFSETTO:+0200
TZNAME:EET
DTSTART:20251026T010000
END:STANDARD
BEGIN:DAYLIGHT
TZOFFSETFROM:+0200
TZOFFSETTO:+0300
TZNAME:EEST
DTSTART:20260329T010000
END:DAYLIGHT
BEGIN:STANDARD
TZOFFSETFROM:+0300
TZOFFSETTO:+0200
TZNAME:EET
DTSTART:20261025T010000
END:STANDARD
END:VTIMEZONE
BEGIN:VEVENT
DTSTART;TZID=Europe/Helsinki:20250214T220000
DTEND;TZID=Europe/Helsinki:20250214T233000
DTSTAMP:20260424T071214
CREATED:20241218T123959Z
LAST-MODIFIED:20241218T123959Z
UID:724-1739570400-1739575800@chriskiddsings.com
SUMMARY:Churchill's Fun Pub
DESCRIPTION:🎉 Get Ready to Party at Churchill’s Fun Pub in Fuengirola! 🎉 \nJoin me for a high-energy\, feel-good night of music guaranteed to get you dancing and singing along. From the biggest hits to crowd-pleasing anthems\, it’s 2 hours of pure party vibes! \nWhether you’re in the mood to let loose on the dance floor or just soak up the electric atmosphere\, Churchill’s is the place to be. \n🌟 The best part? It’s FREE to join the fun! 🌟 \nGrab your friends\, grab a drink\, and let’s make it a night you won’t forget. Churchill’s Fun Pub is known for its lively crowd\, so get there early to grab the best spot. \nLet’s turn up the music\, bring the energy\, and party like there’s no tomorrow. See you there! \n📅 Mark your calendars\, and don’t miss out!
URL:https://chriskiddsings.com/event/churchills-fun-pub/
LOCATION:Churchill’s Fun Pub\, Calle Victor de la serna\, 08\, EDF santa Monica\, local 10\, Santa Fe de los Boliches\, Fuengirola\, Malaga\, Spain
CATEGORIES:Churchill's Fun Pub
ATTACH;FMTTYPE=image/png:https://chriskiddsings.com/wp-content/uploads/2024/12/Copy-of-Copy-of-Copy-of-Copy-of-MINNELLIS-1200-x-628-px.png
END:VEVENT
END:VCALENDAR