BEGIN:VCALENDAR
VERSION:2.0
PRODID:-//Chris Kidd Sings - ECPv6.15.20//NONSGML v1.0//EN
CALSCALE:GREGORIAN
METHOD:PUBLISH
X-ORIGINAL-URL:https://chriskiddsings.com
X-WR-CALDESC:Events for Chris Kidd Sings
REFRESH-INTERVAL;VALUE=DURATION:PT1H
X-Robots-Tag:noindex
X-PUBLISHED-TTL:PT1H
BEGIN:VTIMEZONE
TZID:Europe/Helsinki
BEGIN:DAYLIGHT
TZOFFSETFROM:+0200
TZOFFSETTO:+0300
TZNAME:EEST
DTSTART:20240331T010000
END:DAYLIGHT
BEGIN:STANDARD
TZOFFSETFROM:+0300
TZOFFSETTO:+0200
TZNAME:EET
DTSTART:20241027T010000
END:STANDARD
BEGIN:DAYLIGHT
TZOFFSETFROM:+0200
TZOFFSETTO:+0300
TZNAME:EEST
DTSTART:20250330T010000
END:DAYLIGHT
BEGIN:STANDARD
TZOFFSETFROM:+0300
TZOFFSETTO:+0200
TZNAME:EET
DTSTART:20251026T010000
END:STANDARD
BEGIN:DAYLIGHT
TZOFFSETFROM:+0200
TZOFFSETTO:+0300
TZNAME:EEST
DTSTART:20260329T010000
END:DAYLIGHT
BEGIN:STANDARD
TZOFFSETFROM:+0300
TZOFFSETTO:+0200
TZNAME:EET
DTSTART:20261025T010000
END:STANDARD
END:VTIMEZONE
BEGIN:VEVENT
DTSTART;TZID=Europe/Helsinki:20250301T190000
DTEND;TZID=Europe/Helsinki:20250301T220000
DTSTAMP:20260424T013933
CREATED:20250122T154106Z
LAST-MODIFIED:20250122T154106Z
UID:828-1740855600-1740866400@chriskiddsings.com
SUMMARY:St David's Day Charity Event
DESCRIPTION:Celebrate St. David’s Day in Style at Plaza Mezquita\, Benalmádena! 🏴🎶 \nJoin us on March 1st for a spectacular St. David’s Day celebration brought to you by the Welsh Society – Costa Del Sol! This year’s event is packed with entertainment\, surprises\, and community spirit\, all in support of Age Concern Fuengirola\, Mijas & Benalmádena. \nI’m thrilled to be performing as part of this fantastic event\, bringing an uplifting and vibrant set to the festivities. Expect a mix of soul-stirring music and feel-good anthems to add to the joyous atmosphere of the day. \n🌟 What to Expect:\n🎶 Live music and entertainment\n🍴 Delicious food and drinks\n🎁 Surprises and activities for all ages \nThis is a day to celebrate Welsh culture\, connect with the community\, and support a meaningful cause. \n📅 Mark your calendars and join us in Plaza Mezquita for a celebration to remember!
URL:https://chriskiddsings.com/event/st-davids-day-charity-event/
LOCATION:Plaza Mezquita\, Arroyo de la Miel\, Benalmadena\, Malaga\, 29631\, Spain
CATEGORIES:Plaza Mezquita
ATTACH;FMTTYPE=image/png:https://chriskiddsings.com/wp-content/uploads/2025/01/Copy-of-Copy-of-Copy-of-Copy-of-Copy-of-Copy-of-Copy-of-Copy-of-Copy-of-MINNELLIS-1200-x-628-px-1.png
END:VEVENT
END:VCALENDAR