BEGIN:VCALENDAR
VERSION:2.0
PRODID:-//Chris Kidd Sings - ECPv6.15.20//NONSGML v1.0//EN
CALSCALE:GREGORIAN
METHOD:PUBLISH
X-ORIGINAL-URL:https://chriskiddsings.com
X-WR-CALDESC:Events for Chris Kidd Sings
REFRESH-INTERVAL;VALUE=DURATION:PT1H
X-Robots-Tag:noindex
X-PUBLISHED-TTL:PT1H
BEGIN:VTIMEZONE
TZID:Europe/Helsinki
BEGIN:DAYLIGHT
TZOFFSETFROM:+0200
TZOFFSETTO:+0300
TZNAME:EEST
DTSTART:20240331T010000
END:DAYLIGHT
BEGIN:STANDARD
TZOFFSETFROM:+0300
TZOFFSETTO:+0200
TZNAME:EET
DTSTART:20241027T010000
END:STANDARD
BEGIN:DAYLIGHT
TZOFFSETFROM:+0200
TZOFFSETTO:+0300
TZNAME:EEST
DTSTART:20250330T010000
END:DAYLIGHT
BEGIN:STANDARD
TZOFFSETFROM:+0300
TZOFFSETTO:+0200
TZNAME:EET
DTSTART:20251026T010000
END:STANDARD
BEGIN:DAYLIGHT
TZOFFSETFROM:+0200
TZOFFSETTO:+0300
TZNAME:EEST
DTSTART:20260329T010000
END:DAYLIGHT
BEGIN:STANDARD
TZOFFSETFROM:+0300
TZOFFSETTO:+0200
TZNAME:EET
DTSTART:20261025T010000
END:STANDARD
END:VTIMEZONE
BEGIN:VEVENT
DTSTART;TZID=Europe/Helsinki:20251207T140000
DTEND;TZID=Europe/Helsinki:20251207T170000
DTSTAMP:20260424T032252
CREATED:20250109T124947Z
LAST-MODIFIED:20250109T124947Z
UID:748-1765116000-1765126800@chriskiddsings.com
SUMMARY:The Village Inn
DESCRIPTION:🎶 Spend Your Sunday in Style at The Village Inn in Riviera del Sol! 🎶 \nEnjoy a delicious Sunday Roast accompanied by a live performance of soulful hits and easy-listening classics. Whether you’re dining with friends or family\, my music will set the perfect backdrop for a relaxed and enjoyable afternoon. \nSit back\, unwind\, and let the smooth sounds of soul and timeless melodies create a warm and welcoming atmosphere. \n🌟 The best part? It’s FREE to enjoy the music! 🌟 \nMake your Sunday extra special with great food\, great music\, and great company at The Village Inn. \n📅 Reserve your table now\, and let’s make it a Sunday to remember! 🎤✨
URL:https://chriskiddsings.com/event/the-village-inn-9/
LOCATION:The Village Inn\, Calle Esmeralda 1\, Riviera Del Sol\, Malaga\, 29649\, Spain
CATEGORIES:The Village Inn
ATTACH;FMTTYPE=image/png:https://chriskiddsings.com/wp-content/uploads/2025/01/Copy-of-Copy-of-Copy-of-Copy-of-Copy-of-MINNELLIS-1200-x-628-px.png
ORGANIZER;CN="The Village Inn":MAILTO:info@msvillage.es
END:VEVENT
BEGIN:VEVENT
DTSTART;TZID=Europe/Helsinki:20251102T140000
DTEND;TZID=Europe/Helsinki:20251102T170000
DTSTAMP:20260424T032252
CREATED:20250109T124918Z
LAST-MODIFIED:20250109T124918Z
UID:746-1762092000-1762102800@chriskiddsings.com
SUMMARY:The Village Inn
DESCRIPTION:🎶 Spend Your Sunday in Style at The Village Inn in Riviera del Sol! 🎶 \nEnjoy a delicious Sunday Roast accompanied by a live performance of soulful hits and easy-listening classics. Whether you’re dining with friends or family\, my music will set the perfect backdrop for a relaxed and enjoyable afternoon. \nSit back\, unwind\, and let the smooth sounds of soul and timeless melodies create a warm and welcoming atmosphere. \n🌟 The best part? It’s FREE to enjoy the music! 🌟 \nMake your Sunday extra special with great food\, great music\, and great company at The Village Inn. \n📅 Reserve your table now\, and let’s make it a Sunday to remember! 🎤✨
URL:https://chriskiddsings.com/event/the-village-inn-8/
LOCATION:The Village Inn\, Calle Esmeralda 1\, Riviera Del Sol\, Malaga\, 29649\, Spain
CATEGORIES:The Village Inn
ATTACH;FMTTYPE=image/png:https://chriskiddsings.com/wp-content/uploads/2025/01/Copy-of-Copy-of-Copy-of-Copy-of-Copy-of-MINNELLIS-1200-x-628-px.png
ORGANIZER;CN="The Village Inn":MAILTO:info@msvillage.es
END:VEVENT
BEGIN:VEVENT
DTSTART;TZID=Europe/Helsinki:20251011T203000
DTEND;TZID=Europe/Helsinki:20251011T233000
DTSTAMP:20260424T032252
CREATED:20250109T125025Z
LAST-MODIFIED:20250109T125025Z
UID:750-1760214600-1760225400@chriskiddsings.com
SUMMARY:The Village Inn
DESCRIPTION:🎉 Get Ready to Groove at The Village Inn in Riviera del Sol! 🎉\n\n\n\n\n\n\n\n\n\n\nJoin me for an unforgettable night of upbeat music featuring the very best of Motown\, soul\, funk\, and a sprinkle of 80’s and 90’s favorites. It’s a feel-good evening packed with high-energy hits guaranteed to get you dancing and singing along! \n🌟 The best part? It’s FREE to join the fun! 🌟 \nGrab your friends\, grab a drink\, and get ready for an electric atmosphere that will have everyone up on their feet. The Village Inn is the perfect spot for a lively night out\, so arrive early to grab the best seats. \nLet’s turn up the music\, bring the energy\, and make it a night to remember. See you there! 🎤🎶✨ \n📅 Mark your calendars\, and don’t miss out!
URL:https://chriskiddsings.com/event/the-village-inn-10/
LOCATION:The Village Inn\, Calle Esmeralda 1\, Riviera Del Sol\, Malaga\, 29649\, Spain
CATEGORIES:The Village Inn
ATTACH;FMTTYPE=image/png:https://chriskiddsings.com/wp-content/uploads/2025/01/Copy-of-Copy-of-Copy-of-Copy-of-Copy-of-MINNELLIS-1200-x-628-px.png
ORGANIZER;CN="The Village Inn":MAILTO:info@msvillage.es
END:VEVENT
BEGIN:VEVENT
DTSTART;TZID=Europe/Helsinki:20250921T140000
DTEND;TZID=Europe/Helsinki:20250921T170000
DTSTAMP:20260424T032252
CREATED:20250109T124841Z
LAST-MODIFIED:20250109T124841Z
UID:744-1758463200-1758474000@chriskiddsings.com
SUMMARY:The Village Inn
DESCRIPTION:🎶 Spend Your Sunday in Style at The Village Inn in Riviera del Sol! 🎶 \nEnjoy a delicious Sunday Roast accompanied by a live performance of soulful hits and easy-listening classics. Whether you’re dining with friends or family\, my music will set the perfect backdrop for a relaxed and enjoyable afternoon. \nSit back\, unwind\, and let the smooth sounds of soul and timeless melodies create a warm and welcoming atmosphere. \n🌟 The best part? It’s FREE to enjoy the music! 🌟 \nMake your Sunday extra special with great food\, great music\, and great company at The Village Inn. \n📅 Reserve your table now\, and let’s make it a Sunday to remember! 🎤✨
URL:https://chriskiddsings.com/event/the-village-inn-7/
LOCATION:The Village Inn\, Calle Esmeralda 1\, Riviera Del Sol\, Malaga\, 29649\, Spain
CATEGORIES:The Village Inn
ATTACH;FMTTYPE=image/png:https://chriskiddsings.com/wp-content/uploads/2025/01/Copy-of-Copy-of-Copy-of-Copy-of-Copy-of-MINNELLIS-1200-x-628-px.png
ORGANIZER;CN="The Village Inn":MAILTO:info@msvillage.es
END:VEVENT
BEGIN:VEVENT
DTSTART;TZID=Europe/Helsinki:20250817T140000
DTEND;TZID=Europe/Helsinki:20250817T170000
DTSTAMP:20260424T032252
CREATED:20250109T124741Z
LAST-MODIFIED:20250109T124741Z
UID:742-1755439200-1755450000@chriskiddsings.com
SUMMARY:The Village Inn
DESCRIPTION:🎶 Spend Your Sunday in Style at The Village Inn in Riviera del Sol! 🎶 \nEnjoy a delicious Sunday Roast accompanied by a live performance of soulful hits and easy-listening classics. Whether you’re dining with friends or family\, my music will set the perfect backdrop for a relaxed and enjoyable afternoon. \nSit back\, unwind\, and let the smooth sounds of soul and timeless melodies create a warm and welcoming atmosphere. \n🌟 The best part? It’s FREE to enjoy the music! 🌟 \nMake your Sunday extra special with great food\, great music\, and great company at The Village Inn. \n📅 Reserve your table now\, and let’s make it a Sunday to remember! 🎤✨
URL:https://chriskiddsings.com/event/the-village-inn-6/
LOCATION:The Village Inn\, Calle Esmeralda 1\, Riviera Del Sol\, Malaga\, 29649\, Spain
CATEGORIES:The Village Inn
ATTACH;FMTTYPE=image/png:https://chriskiddsings.com/wp-content/uploads/2025/01/Copy-of-Copy-of-Copy-of-Copy-of-Copy-of-MINNELLIS-1200-x-628-px.png
ORGANIZER;CN="The Village Inn":MAILTO:info@msvillage.es
END:VEVENT
BEGIN:VEVENT
DTSTART;TZID=Europe/Helsinki:20250622T140000
DTEND;TZID=Europe/Helsinki:20250622T170000
DTSTAMP:20260424T032252
CREATED:20250109T124713Z
LAST-MODIFIED:20250109T124713Z
UID:740-1750600800-1750611600@chriskiddsings.com
SUMMARY:The Village Inn
DESCRIPTION:🎶 Spend Your Sunday in Style at The Village Inn in Riviera del Sol! 🎶 \nEnjoy a delicious Sunday Roast accompanied by a live performance of soulful hits and easy-listening classics. Whether you’re dining with friends or family\, my music will set the perfect backdrop for a relaxed and enjoyable afternoon. \nSit back\, unwind\, and let the smooth sounds of soul and timeless melodies create a warm and welcoming atmosphere. \n🌟 The best part? It’s FREE to enjoy the music! 🌟 \nMake your Sunday extra special with great food\, great music\, and great company at The Village Inn. \n📅 Reserve your table now\, and let’s make it a Sunday to remember! 🎤✨
URL:https://chriskiddsings.com/event/the-village-inn-5/
LOCATION:The Village Inn\, Calle Esmeralda 1\, Riviera Del Sol\, Malaga\, 29649\, Spain
CATEGORIES:The Village Inn
ATTACH;FMTTYPE=image/png:https://chriskiddsings.com/wp-content/uploads/2025/01/Copy-of-Copy-of-Copy-of-Copy-of-Copy-of-MINNELLIS-1200-x-628-px.png
ORGANIZER;CN="The Village Inn":MAILTO:info@msvillage.es
END:VEVENT
BEGIN:VEVENT
DTSTART;TZID=Europe/Helsinki:20250511T140000
DTEND;TZID=Europe/Helsinki:20250511T170000
DTSTAMP:20260424T032252
CREATED:20250109T124624Z
LAST-MODIFIED:20250109T124624Z
UID:738-1746972000-1746982800@chriskiddsings.com
SUMMARY:The Village Inn
DESCRIPTION:🎶 Spend Your Sunday in Style at The Village Inn in Riviera del Sol! 🎶 \nEnjoy a delicious Sunday Roast accompanied by a live performance of soulful hits and easy-listening classics. Whether you’re dining with friends or family\, my music will set the perfect backdrop for a relaxed and enjoyable afternoon. \nSit back\, unwind\, and let the smooth sounds of soul and timeless melodies create a warm and welcoming atmosphere. \n🌟 The best part? It’s FREE to enjoy the music! 🌟 \nMake your Sunday extra special with great food\, great music\, and great company at The Village Inn. \n📅 Reserve your table now\, and let’s make it a Sunday to remember! 🎤✨
URL:https://chriskiddsings.com/event/the-village-inn-4/
LOCATION:The Village Inn\, Calle Esmeralda 1\, Riviera Del Sol\, Malaga\, 29649\, Spain
CATEGORIES:The Village Inn
ATTACH;FMTTYPE=image/png:https://chriskiddsings.com/wp-content/uploads/2025/01/Copy-of-Copy-of-Copy-of-Copy-of-Copy-of-MINNELLIS-1200-x-628-px.png
ORGANIZER;CN="The Village Inn":MAILTO:info@msvillage.es
END:VEVENT
BEGIN:VEVENT
DTSTART;TZID=Europe/Helsinki:20250323T140000
DTEND;TZID=Europe/Helsinki:20250323T170000
DTSTAMP:20260424T032252
CREATED:20250109T124558Z
LAST-MODIFIED:20250109T124558Z
UID:736-1742738400-1742749200@chriskiddsings.com
SUMMARY:The Village Inn
DESCRIPTION:🎶 Spend Your Sunday in Style at The Village Inn in Riviera del Sol! 🎶 \nEnjoy a delicious Sunday Roast accompanied by a live performance of soulful hits and easy-listening classics. Whether you’re dining with friends or family\, my music will set the perfect backdrop for a relaxed and enjoyable afternoon. \nSit back\, unwind\, and let the smooth sounds of soul and timeless melodies create a warm and welcoming atmosphere. \n🌟 The best part? It’s FREE to enjoy the music! 🌟 \nMake your Sunday extra special with great food\, great music\, and great company at The Village Inn. \n📅 Reserve your table now\, and let’s make it a Sunday to remember! 🎤✨
URL:https://chriskiddsings.com/event/the-village-inn-3/
LOCATION:The Village Inn\, Calle Esmeralda 1\, Riviera Del Sol\, Malaga\, 29649\, Spain
CATEGORIES:The Village Inn
ATTACH;FMTTYPE=image/png:https://chriskiddsings.com/wp-content/uploads/2025/01/Copy-of-Copy-of-Copy-of-Copy-of-Copy-of-MINNELLIS-1200-x-628-px.png
ORGANIZER;CN="The Village Inn":MAILTO:info@msvillage.es
END:VEVENT
BEGIN:VEVENT
DTSTART;TZID=Europe/Helsinki:20250216T140000
DTEND;TZID=Europe/Helsinki:20250216T170000
DTSTAMP:20260424T032252
CREATED:20250109T124456Z
LAST-MODIFIED:20250109T124456Z
UID:734-1739714400-1739725200@chriskiddsings.com
SUMMARY:The Village Inn
DESCRIPTION:🎶 Spend Your Sunday in Style at The Village Inn in Riviera del Sol! 🎶 \nEnjoy a delicious Sunday Roast accompanied by a live performance of soulful hits and easy-listening classics. Whether you’re dining with friends or family\, my music will set the perfect backdrop for a relaxed and enjoyable afternoon. \nSit back\, unwind\, and let the smooth sounds of soul and timeless melodies create a warm and welcoming atmosphere. \n🌟 The best part? It’s FREE to enjoy the music! 🌟 \nMake your Sunday extra special with great food\, great music\, and great company at The Village Inn. \n📅 Reserve your table now\, and let’s make it a Sunday to remember! 🎤✨
URL:https://chriskiddsings.com/event/the-village-inn-2/
LOCATION:The Village Inn\, Calle Esmeralda 1\, Riviera Del Sol\, Malaga\, 29649\, Spain
CATEGORIES:The Village Inn
ATTACH;FMTTYPE=image/png:https://chriskiddsings.com/wp-content/uploads/2025/01/Copy-of-Copy-of-Copy-of-Copy-of-Copy-of-MINNELLIS-1200-x-628-px.png
ORGANIZER;CN="The Village Inn":MAILTO:info@msvillage.es
END:VEVENT
BEGIN:VEVENT
DTSTART;TZID=Europe/Helsinki:20250125T203000
DTEND;TZID=Europe/Helsinki:20250125T233000
DTSTAMP:20260424T032252
CREATED:20250109T124205Z
LAST-MODIFIED:20250113T183745Z
UID:729-1737837000-1737847800@chriskiddsings.com
SUMMARY:The Village Inn
DESCRIPTION:🎉 Get Ready to Groove at The Village Inn in Riviera del Sol! 🎉\n\n\n\n\n\n\n\n\n\n\nJoin me for an unforgettable night of upbeat music featuring the very best of Motown\, soul\, funk\, and a sprinkle of 80’s and 90’s favorites. It’s a feel-good evening packed with high-energy hits guaranteed to get you dancing and singing along! \n🌟 The best part? It’s FREE to join the fun! 🌟 \nGrab your friends\, grab a drink\, and get ready for an electric atmosphere that will have everyone up on their feet. The Village Inn is the perfect spot for a lively night out\, so arrive early to grab the best seats. \nLet’s turn up the music\, bring the energy\, and make it a night to remember. See you there! 🎤🎶✨ \n📅 Mark your calendars\, and don’t miss out!
URL:https://chriskiddsings.com/event/the-village-inn/
LOCATION:The Village Inn\, Calle Esmeralda 1\, Riviera Del Sol\, Malaga\, 29649\, Spain
CATEGORIES:The Village Inn
ATTACH;FMTTYPE=image/png:https://chriskiddsings.com/wp-content/uploads/2025/01/Copy-of-Copy-of-Copy-of-Copy-of-Copy-of-MINNELLIS-1200-x-628-px.png
ORGANIZER;CN="The Village Inn":MAILTO:info@msvillage.es
END:VEVENT
END:VCALENDAR